BEGIN:VCALENDAR
VERSION:2.0
PRODID:-//Sentara - ECPv6.15.12.2//NONSGML v1.0//EN
CALSCALE:GREGORIAN
METHOD:PUBLISH
X-WR-CALNAME:Sentara
X-ORIGINAL-URL:https://www.sentaracareers.com
X-WR-CALDESC:Events for Sentara
REFRESH-INTERVAL;VALUE=DURATION:PT1H
X-Robots-Tag:noindex
X-PUBLISHED-TTL:PT1H
BEGIN:VTIMEZONE
TZID:UTC
BEGIN:STANDARD
TZOFFSETFROM:+0000
TZOFFSETTO:+0000
TZNAME:UTC
DTSTART:20210101T000000
END:STANDARD
END:VTIMEZONE
BEGIN:VEVENT
DTSTART;TZID=UTC:20220202T150000
DTEND;TZID=UTC:20220202T180000
DTSTAMP:20260423T173610
CREATED:20220121T212220Z
LAST-MODIFIED:20220121T212220Z
UID:7023-1643814000-1643824800@www.sentaracareers.com
SUMMARY:Sentara Norfolk General Hospital - RN and LPN Hiring Event (Virtual)
DESCRIPTION:We will be hosting a virtual Registered Nurse and Licensed Practical Nurse hiring event for our Magnet-designated Sentara Norfolk General Hospital! Recruiters and hiring managers will be ready to chat 1:1 with you about our job openings and answer any questions you may have.  \nWhen:\nWednesday\, February 2\, 3pm-6pm \nWhere:\nVirtual from mobile\, tablet\, or desktop\nRegister here: https://indeedhi.re/3KqoUEx \nSign-on Bonus and Relocation Assistance available for Qualifying Positions! \nAbout Sentara Norfolk General Hospital:\nSentara Norfolk General Hospital is a 525-bed Magnet recognized facility\, an academic teaching hospital and is home to the region’s only Level 1 Trauma Center. It is also home to The Sentara Heart Hospital which is a quaternary care facility and is ranked #2 for Cardiology and Heart Surgery in the State of Virginia and ranks #24 in the nation for best heart programs. These facilities are located in Norfolk\, Virginia just about 25 minutes from the coastal area of Virginia Beach.
URL:https://www.sentaracareers.com/event/sentara-norfolk-general-hospital-registered-nurse-virtual-hiring-event-2-3-3-2/
LOCATION:VA
CATEGORIES:Event Link,Uncategorized,upcoming
ORGANIZER;CN="Andrea Arnett":MAILTO:avarnett@sentara.com
END:VEVENT
BEGIN:VEVENT
DTSTART;TZID=UTC:20220209T150000
DTEND;TZID=UTC:20220209T180000
DTSTAMP:20260423T173610
CREATED:20220128T005620Z
LAST-MODIFIED:20220128T005620Z
UID:7067-1644418800-1644429600@www.sentaracareers.com
SUMMARY:Sentara Obici Hospital Virtual Hiring Event (Nursing/Nursing Support\, Allied Health/Therapy & Support)
DESCRIPTION:We will be hosting a virtual hiring event for our Magnet-designated Sentara Obici Hospital\, located in Suffolk\, VA! Recruiters and hiring managers will be ready to video chat with you about our job openings and answer any questions you may have. See below for what positions we’ll be hiring for. \nWhen:\nWednesday\, February 9\, 2022 \nTime:\n3:00 pm – 6:00 pm \nWhere:\nVirtually from your computer\, tablet or phone\nRegister here: https://indeedhi.re/3IFQJa4 \nPositions we’ll be hiring for: \nNursing/Nursing Support\nLicensed Practical Nurse\nNursing Care Partner\nRegistered Nurse\nUnit Coordinator (RN): BSN Required \nAllied Health/Therapy\nMonitor Tech\nOccupational Therapist (full-time)\nPhysical Therapist (prn/flexi)\nPediatric Physical Therapist\nSpeech Language Pathologist (prn/flexi) \nSupport\nClinical Support Associate\nEnvironmental Services Tech 1\nEnvironmental Services Tech 3\nFood Service Worker (food handlers card required)\nPatient Access Rep\nPatient Access Team Leader\nPatient Dining Associate (food handlers card required) \nAward-winning: Sentara Healthcare is a Virginia and Northeast North Carolina-based not-for-profit integrated healthcare provider that has been in business for over 131 years.  Offering more than 500 sites of care including 12 hospitals\, long-term care\, assisting living\, PACE\, home health\, hospice\, medical transport\, medical groups\, imaging services\, therapy\, outpatient surgery centers\, and an 858\,000 member health plan.  The people of the communities that we serve have nominated Sentara “Employer of Choice” for over ten years.  U.S. News and Report has recognized Sentara as having the Best Hospitals for 15+ years.  Sentara offers professional development and a continued employment philosophy!  (hyperlink to Work with Sentara page from 500 sites of care) \nSentara Obici Hospital is a state-of-the-art facility located in Suffolk\, Virginia. This 172-bed\, full-service hospital continues a legacy of providing residents of Western Tidewater with high-quality\, patient-centered care. In June 2010\, Sentara Obici opened a new three-story\, 63\,480 square-foot wing\, which includes all private beds serving orthopedic\, medical\, and surgical patients and increased the hospital’s bed capacity. \nDiversity:  Sentara Healthcare prides itself on the diversity and inclusiveness of its close to an almost 30\,000-member workforce. Diversity\, inclusion\, and belonging are guiding principles of the organization to ensure its workforce reflects the communities it serves. \nBenefits: Sentara offers an attractive array of full-time benefits to include Medical\, Dental\, Vision\, Paid Time Off\, Sick\, Tuition Reimbursement\, a 401k/403B\, Performance Plus Bonus\, Career Advancement Opportunities\, Work Perks\, and more.  Relocation assistance is available for qualified candidates!\nOur success is supported by a family-friendly culture that encourages community involvement and creates unlimited opportunities for development and growth. Sentara recognizes our employees by offering: \n\nCompetitive pay plans\nComprehensive health care plans\nGenerous paid annual leave\n401a/401k/403b plan\nLong and short term disability\nTuition Reimbursement\nFlex spending and life insurance\nYou can expect employee recognition\, performance rewards\, plus countless services and programs to enhance work/life balance.\n\nBe a part of an excellent healthcare organization that cares about our People\, Quality\, Patient Safety\, Service and Integrity.   Join a team that has a Mission to improve health every day\, join the Sentara Team!   
URL:https://www.sentaracareers.com/event/sentara-obici-hospital-registered-nurse-virtual-hiring-event-2-2/
LOCATION:VA
CATEGORIES:Event Link,Uncategorized,upcoming
ORGANIZER;CN="Erin Creath":MAILTO:EJCREATH@sentara.com
END:VEVENT
BEGIN:VEVENT
DTSTART;TZID=UTC:20220216T100000
DTEND;TZID=UTC:20220216T130000
DTSTAMP:20260423T173610
CREATED:20220201T230447Z
LAST-MODIFIED:20220201T230447Z
UID:7071-1645005600-1645016400@www.sentaracareers.com
SUMMARY:Sentara Medical Group Virtual Hiring Event (Northern Virginia locations)
DESCRIPTION:Sentara Medical Group will be hosting a virtual hiring event for several clinical positions and various medical practices in Northern Virginia. Recruiters and Hiring Managers will be ready to chat with you about current openings. We welcome new grads for many of our positions. Please see below for which positions we will be hiring for. \nWhen:\nWednesday\, February 16\, 10am-1pm \nWhere:\nJoin us from a computer\, tablet\, or mobile device\nRegister here: https://bit.ly/3ognd38 \nWe will be hiring for the following positions: \n\nLicensed Practical Nurse\nMedical Assistant\nPatient Care Representative\nPatient Care Specialist\nPractice Manager\nRegistered Nurse\n\nAbout Sentara Medical Group:\nSentara Medical Group has physician offices located throughout Virginia and Northeastern\, North Carolina. Within our practices\, we have compassionate care teams made up of Registered Nurses\, Licensed Practical Nurses\, Medical Assistants\, Administrative Assistants\, Nurse Practitioners\, and Physicians. Sentara Medical Group is committed to creating a positive patient experience\, has access to cutting-edge technology and is enhanced by online communication tools allowing for increased collaboration and the best possible patient care.
URL:https://www.sentaracareers.com/event/sentara-medical-group-virtual-hiring-event-rns-lpns-mas-athletic-trainers-sonographers-2-2-3/
LOCATION:VA
CATEGORIES:Event Link,Uncategorized,upcoming
ORGANIZER;CN="Laura Puckett":MAILTO:LMHILL@sentara.com
END:VEVENT
BEGIN:VEVENT
DTSTART;TZID=UTC:20220216T120000
DTEND;TZID=UTC:20220216T140000
DTSTAMP:20260423T173610
CREATED:20220203T190222Z
LAST-MODIFIED:20220203T190222Z
UID:7083-1645012800-1645020000@www.sentaracareers.com
SUMMARY:Sentara RMH Medical Center Virtual Support Services Job Fair
DESCRIPTION:Sentara RMH Medical Center (Harrisonburg\, VA) is having a Virtual Support Services Job Fair to hire for Housekeeping\, Patient Dining Associate\, and Food Service positions. Recruiters and Managers will be ready to video chat with you about our job openings and answer any questions you may have.\nWhen:\nWednesday\, February 16\, 12pm-2pm\nWhere:\nJoin us from a computer\, tablet\, or mobile device\nRegister here: https://bit.ly/3L6XEev\nWe are hiring for the following positions:\n\nHousekeeping Technician\nPatient Dining Associate\nFood Service Worker\nCooks\nTeam Lead\, Food Services\n\nGenerous Sign-On Bonuses are available for certain positions!\n 
URL:https://www.sentaracareers.com/event/https-app-brazenconnect-com-a-sentara-e-q8yjw/
LOCATION:VA
CATEGORIES:Event Link,Uncategorized,upcoming
ORGANIZER;CN="Alyssa Soviero":MAILTO:axsovier@sentara.com
END:VEVENT
BEGIN:VEVENT
DTSTART;TZID=UTC:20220217T150000
DTEND;TZID=UTC:20220217T180000
DTSTAMP:20260423T173610
CREATED:20220205T031616Z
LAST-MODIFIED:20220205T031616Z
UID:7100-1645110000-1645120800@www.sentaracareers.com
SUMMARY:Sentara Operating Room Virtual Event (Endo Techs\, RNs\, Surg Techs\, and more)
DESCRIPTION:We will be hosting a virtual hiring event for Sentara Operating Room positions (Systemwide – locations throughout Virginia and Northeastern North Carolina). Recruiters and hiring managers will be ready to video chat with you about our job openings and answer any questions you may have. See below for what positions we’ll be hiring for and a list of Sentara locations. Sign On Bonus and Relocation Assistance offered for qualified candidates and positions!  \nWhen:\nThursday\, February 17\, 3pm-6pm \nWhere:\nVirtually from your computer\, tablet or phone\nRegister here: https://indeedhi.re/3HuWFTe \nPositions we’ll be hiring for:\nEndoscopy Technician\nOR Systems Specialist\nRegistered Nurse\nSurgical Assistant\nSurgical Technician\nTeam Coordinator\, Patient Care Services\, RN \nList of Sentara locations:\nSentara Albemarle Medical Center (Elizabeth City\, NC)\nSentara Careplex Hospital (Hampton\, VA)\nSentara Halifax Regional Hospital (South Boston\, VA)\nSentara Leigh Hospital (Norfolk\, VA)\nSentara Martha Jefferson Hospital (Charlottesville\, VA)\nSentara Norfolk General Hospital (Norfolk\, VA)\nSentara Northern Virginia Medical Center (Woodbridge\, VA)\nSentara Obici Hospital (Suffolk\, VA)\nSentara Princess Anne Hospital (Virginia Beach\, VA)\nSentara RMH Medical Center (Harrisonburg\, VA)\nSentara Virginia Beach Hospital (Virginia Beach\, VA)\nSentara Williamsburg Regional Medical Center (Williamsburg\, VA \nAward-winning: Sentara Healthcare is a Virginia and Northeast North Carolina-based not-for-profit integrated healthcare provider that has been in business for over 131 years.  Offering more than 500 sites of care including 12 hospitals\, long-term care\, assisting living\, PACE\, home health\, hospice\, medical transport\, medical groups\, imaging services\, therapy\, outpatient surgery centers\, and an 858\,000 member health plan.  The people of the communities that we serve have nominated Sentara “Employer of Choice” for over ten years.  U.S. News and Report has recognized Sentara as having the Best Hospitals for 15+ years.  Sentara offers professional development and a continued employment philosophy!  (hyperlink to Work with Sentara page from 500 sites of care) \nDiversity:  Sentara Healthcare prides itself on the diversity and inclusiveness of its close to an almost 30\,000-member workforce. Diversity\, inclusion\, and belonging are guiding principles of the organization to ensure its workforce reflects the communities it serves. \nBenefits: Sentara offers an attractive array of full-time benefits to include Medical\, Dental\, Vision\, Paid Time Off\, Sick\, Tuition Reimbursement\, a 401k/403B\, Performance Plus Bonus\, Career Advancement Opportunities\, Work Perks\, and more.  Relocation assistance is available for qualified candidates! \nBe a part of an excellent healthcare organization that cares about our People\, Quality\, Patient Safety\, Service and Integrity.   Join a team that has a Mission to improve health every day\, join the Sentara Team!   
URL:https://www.sentaracareers.com/event/sentara-obici-hospital-registered-nurse-virtual-hiring-event-2-2-2-2/
LOCATION:VA
CATEGORIES:Event Link,Uncategorized,upcoming
ORGANIZER;CN="Brenna Alexander":MAILTO:bnalexa1@sentara.com
END:VEVENT
BEGIN:VEVENT
DTSTART;TZID=UTC:20220223T140000
DTEND;TZID=UTC:20220223T170000
DTSTAMP:20260423T173610
CREATED:20220205T023949Z
LAST-MODIFIED:20220205T023949Z
UID:7093-1645624800-1645635600@www.sentaracareers.com
SUMMARY:Sentara Rehab/Therapy Virtual Hiring Event (OTs\, PTs\, SLPs)
DESCRIPTION:We will be hosting a virtual hiring event for Sentara Rehabilitative/Therapy Services (Systemwide – locations throughout Virginia and Northeastern North Carolina). Recruiters and hiring managers will be ready to video chat with you about our job openings and answer any questions you may have. See below for what positions we’ll be hiring for and a list of Sentara locations. Sign On Bonus and Relocation Assistance offered for qualified candidates!  \nWhen:\nWednesday\, February 23\, 2pm-5pm \nWhere:\nVirtually from your computer\, tablet or phone\nRegister here: https://bit.ly/3seKlAc \nPositions we’ll be hiring for:\nOccupational Therapist\nPhysical Therapist\nSpeech-Language Pathologist \nList of Sentara locations:\nSentara Albemarle Medical Center (Elizabeth City\, NC)\nSentara Careplex Hospital (Hampton\, VA)\nSentara Halifax Regional Hospital (South Boston\, VA)\nSentara Leigh Hospital (Norfolk\, VA)\nSentara Martha Jefferson Hospital (Charlottesville\, VA)\nSentara Norfolk General Hospital (Norfolk\, VA)\nSentara Northern Virginia Medical Center (Woodbridge\, VA)\nSentara Obici Hospital (Suffolk\, VA)\nSentara Princess Anne Hospital (Virginia Beach\, VA)\nSentara RMH Medical Center (Harrisonburg\, VA)\nSentara Virginia Beach Hospital (Virginia Beach\, VA)\nSentara Williamsburg Regional Medical Center (Williamsburg\, VA \nAward-winning: Sentara Healthcare is a Virginia and Northeast North Carolina-based not-for-profit integrated healthcare provider that has been in business for over 131 years.  Offering more than 500 sites of care including 12 hospitals\, long-term care\, assisting living\, PACE\, home health\, hospice\, medical transport\, medical groups\, imaging services\, therapy\, outpatient surgery centers\, and an 858\,000 member health plan.  The people of the communities that we serve have nominated Sentara “Employer of Choice” for over ten years.  U.S. News and Report has recognized Sentara as having the Best Hospitals for 15+ years.  Sentara offers professional development and a continued employment philosophy!  (hyperlink to Work with Sentara page from 500 sites of care) \nDiversity:  Sentara Healthcare prides itself on the diversity and inclusiveness of its close to an almost 30\,000-member workforce. Diversity\, inclusion\, and belonging are guiding principles of the organization to ensure its workforce reflects the communities it serves. \nBenefits: Sentara offers an attractive array of full-time benefits to include Medical\, Dental\, Vision\, Paid Time Off\, Sick\, Tuition Reimbursement\, a 401k/403B\, Performance Plus Bonus\, Career Advancement Opportunities\, Work Perks\, and more.  Relocation assistance is available for qualified candidates! \nBe a part of an excellent healthcare organization that cares about our People\, Quality\, Patient Safety\, Service and Integrity.   Join a team that has a Mission to improve health every day\, join the Sentara Team!    \n  
URL:https://www.sentaracareers.com/event/sentara-obici-hospital-registered-nurse-virtual-hiring-event-2-2-2/
LOCATION:VA
CATEGORIES:Event Link,Uncategorized,upcoming
ORGANIZER;CN="Sherril Bass":MAILTO:SEBASS@sentara.com
END:VEVENT
BEGIN:VEVENT
DTSTART;TZID=UTC:20220224T140000
DTEND;TZID=UTC:20220224T170000
DTSTAMP:20260423T173610
CREATED:20220202T221226Z
LAST-MODIFIED:20220202T221226Z
UID:7080-1645711200-1645722000@www.sentaracareers.com
SUMMARY:Respiratory Therapist Virtual Hiring Event (Systemwide)
DESCRIPTION:Sentara Healthcare will be hosting a virtual hiring event for Certified and Registered Respiratory Therapists (New Graduate and Experienced). We will be hiring for locations throughout Virginia and northeastern North Carolina. Recruiters and Managers will be ready to video chat with you about our job openings and answer any questions you may have.\nWhen:\nThursday February 24\, 2pm-5pm \nWhere:\nJoin us from a computer\, tablet\, or mobile device\nRegister here: https://indeedhi.re/3Gnej9S \nGenerous Sign-On Bonuses and Relocation Assistance for certain positions!!! \nList of Sentara locations:\nSentara Albemarle Medical Center (Elizabeth City\, NC)\nSentara Careplex Hospital (Hampton\, VA)\nSentara Halifax Regional Hospital (South Boston\, VA)\nSentara Leigh Hospital (Norfolk\, VA)\nSentara Martha Jefferson Hospital (Charlottesville\, VA)\nSentara Norfolk General Hospital (Norfolk\, VA)\nSentara Northern Virginia Medical Center (Woodbridge\, VA)\nSentara Obici Hospital (Suffolk\, VA)\nSentara Princess Anne Hospital (Virginia Beach\, VA)\nSentara RMH Medical Center (Harrisonburg\, VA)\nSentara Virginia Beach Hospital (Virginia Beach\, VA)\nSentara Williamsburg Regional Medical Center (Williamsburg\, VA \nAward-winning: Sentara Healthcare is a Virginia and Northeast North Carolina-based not-for-profit integrated healthcare provider that has been in business for over 131 years.  Offering more than 500 sites of care including 12 hospitals\, long-term care\, assisting living\, PACE\, home health\, hospice\, medical transport\, medical groups\, imaging services\, therapy\, outpatient surgery centers\, and an 858\,000 member health plan.  The people of the communities that we serve have nominated Sentara “Employer of Choice” for over ten years.  U.S. News and Report has recognized Sentara as having the Best Hospitals for 15+ years.  Sentara offers professional development and a continued employment philosophy!  (hyperlink to Work with Sentara page from 500 sites of care) \nDiversity:  Sentara Healthcare prides itself on the diversity and inclusiveness of its close to an almost 30\,000-member workforce. Diversity\, inclusion\, and belonging are guiding principles of the organization to ensure its workforce reflects the communities it serves. \nBenefits: Sentara offers an attractive array of full-time benefits to include Medical\, Dental\, Vision\, Paid Time Off\, Sick\, Tuition Reimbursement\, a 401k/403B\, Performance Plus Bonus\, Career Advancement Opportunities\, Work Perks\, and more.  Relocation assistance is available for qualified candidates! \nBe a part of an excellent healthcare organization that cares about our People\, Quality\, Patient Safety\, Service and Integrity.   Join a team that has a Mission to improve health every day\, join the Sentara Team!   
URL:https://www.sentaracareers.com/event/respiratory-therapist-virtual-hiring-event-2/
LOCATION:VA
CATEGORIES:Event Link,Uncategorized,upcoming
ORGANIZER;CN="Pat Stone":MAILTO:pastone@sentara.com
END:VEVENT
BEGIN:VEVENT
DTSTART;TZID=UTC:20220224T140000
DTEND;TZID=UTC:20220224T170000
DTSTAMP:20260423T173610
CREATED:20220210T232918Z
LAST-MODIFIED:20220210T232918Z
UID:7125-1645711200-1645722000@www.sentaracareers.com
SUMMARY:Sentara Systemwide Nursing Virtual Event (RNs & LPNs)
DESCRIPTION:We invite new graduate and experienced nurses to Sentara’s systemwide virtual hiring event for Registered Nurse and Licensed Practical Nurse positions. Recruiters and hiring managers will be ready to video chat with you about our job openings and answer any questions you may have. See below for what positions we’ll be hiring for and a list of Sentara locations/divisions. Sign On Bonus and Relocation Assistance offered for qualified candidates and positions!  \nWhen:\nThursday\, February 24\, 2pm-5pm \nWhere:\nVirtually from your computer\, tablet or phone\nRegister here: https://bit.ly/3Bjqvrt \nPositions we’ll be hiring for:\nLicensed Practical Nurse\nRegistered Nurse \nNew Graduate and Experienced Nurses invited!  \nList of Sentara locations/divisions:\nSentara Albemarle Medical Center (Elizabeth City\, NC)\nSentara Careplex Hospital (Hampton\, VA)\nSentara Halifax Regional Hospital (South Boston\, VA)\nSentara Leigh Hospital (Norfolk\, VA)\nSentara Martha Jefferson Hospital (Charlottesville\, VA)\nSentara Norfolk General Hospital (Norfolk\, VA)\nSentara Northern Virginia Medical Center (Woodbridge\, VA)\nSentara Obici Hospital (Suffolk\, VA)\nSentara Princess Anne Hospital (Virginia Beach\, VA)\nSentara RMH Medical Center (Harrisonburg\, VA)\nSentara Virginia Beach Hospital (Virginia Beach\, VA)\nSentara Williamsburg Regional Medical Center (Williamsburg\, VA)\nSentara Home Health & Hospice\nSentara Medical Group\nTravel Nurses – All Locations \nAward-winning: Sentara Healthcare is a Virginia and Northeast North Carolina-based not-for-profit integrated healthcare provider that has been in business for over 131 years.  Offering more than 500 sites of care including 12 hospitals\, long-term care\, assisting living\, PACE\, home health\, hospice\, medical transport\, medical groups\, imaging services\, therapy\, outpatient surgery centers\, and an 858\,000 member health plan.  The people of the communities that we serve have nominated Sentara “Employer of Choice” for over ten years.  U.S. News and Report has recognized Sentara as having the Best Hospitals for 15+ years.  Sentara offers professional development and a continued employment philosophy!  (hyperlink to Work with Sentara page from 500 sites of care) \nDiversity:  Sentara Healthcare prides itself on the diversity and inclusiveness of its close to an almost 30\,000-member workforce. Diversity\, inclusion\, and belonging are guiding principles of the organization to ensure its workforce reflects the communities it serves. \nBenefits: Sentara offers an attractive array of full-time benefits to include Medical\, Dental\, Vision\, Paid Time Off\, Sick\, Tuition Reimbursement\, a 401k/403B\, Performance Plus Bonus\, Career Advancement Opportunities\, Work Perks\, and more.  Relocation assistance is available for qualified candidates! \nBe a part of an excellent healthcare organization that cares about our People\, Quality\, Patient Safety\, Service and Integrity.   Join a team that has a Mission to improve health every day\, join the Sentara Team!   
URL:https://www.sentaracareers.com/event/sentara-obici-hospital-registered-nurse-virtual-hiring-event-2-2-2-2-2/
LOCATION:VA
CATEGORIES:Event Link,Uncategorized,upcoming
END:VEVENT
END:VCALENDAR