BEGIN:VCALENDAR
VERSION:2.0
PRODID:-//Sentara - ECPv6.15.12.2//NONSGML v1.0//EN
CALSCALE:GREGORIAN
METHOD:PUBLISH
X-ORIGINAL-URL:https://www.sentaracareers.com
X-WR-CALDESC:Events for Sentara
REFRESH-INTERVAL;VALUE=DURATION:PT1H
X-Robots-Tag:noindex
X-PUBLISHED-TTL:PT1H
BEGIN:VTIMEZONE
TZID:UTC
BEGIN:STANDARD
TZOFFSETFROM:+0000
TZOFFSETTO:+0000
TZNAME:UTC
DTSTART:20210101T000000
END:STANDARD
END:VTIMEZONE
BEGIN:VEVENT
DTSTART;TZID=UTC:20220406T130000
DTEND;TZID=UTC:20220406T160000
DTSTAMP:20260421T062745
CREATED:20220328T231447Z
LAST-MODIFIED:20220328T231447Z
UID:7305-1649250000-1649260800@www.sentaracareers.com
SUMMARY:Sentara Virginia Beach General Hospital – Clinical Hiring Event (In-Person)
DESCRIPTION:We will be hosting a clinical in-person hiring event for our Magnet-designated Sentara Virginia Beach General Hospital (Virginia Beach\, VA). Recruiters and hiring managers will be ready to chat 1:1 with you to speak about their job openings\, your experience\, and answer any questions you may have. See below for what positions we’ll be hiring for. Sign On Bonus and Relocation Assistance for qualified candidates/positions! \nWhen:\nWednesday\, April 6\, 1pm-4pm \nWhere:\nSentara Virginia Beach General Hospital\n1060 First Colonial Road\nVirginia Beach\, Virginia 23454\nHospital Lobby\nRegister here: https://indeedhi.re/3qutQ2Q \nWe’re hiring for:\nLicensed Practical Nurse\nNursing Care Partner\nRegistered Nurse (New Graduate and Experienced)\nSurgical Assistant\nSurgical Tech \nAbout Sentara Virginia Beach General Hospital:\nSentara Virginia Beach General Hospital is a 282-bed acute care facility located in Virginia Beach\, VA. We are Magnet-designated for nursing excellence and are home to the region’s only Level III Trauma Center. Our other clinical services include; Mental Health Unit\, Coastal Cancer Center; Diabetes Center; Orthopedics; Accredited Sleep Disorders Center; and an Inpatient Rehab unit. We are also home to one of three locations within the Sentara Heart network of care that provides a quality heart surgery program. We do stents\, pacemakers\, open-heart surgery\, valve replacements. We have a dedicated cardiac surgery operating room\, a dedicated cardiac surgery intensive care unit\, 12 pre- and post-op procedure rooms\, and a 12 bed dedicated cardiac unit. We also provide access to specialized heart clinics\, advanced cardiac imaging and the latest clinical research.
URL:https://www.sentaracareers.com/event/sentara-virginia-beach-general-hospital-clinical-hiring-event-in-person/
LOCATION:Sentara Virginia Beach General Hospital\, Hospital Lobby\, 1060 First Colonial Road\, Virginia Beach\, VA\, 23454\, United States
CATEGORIES:Event Link,Uncategorized,upcoming
ORGANIZER;CN="Andrea Arnett":MAILTO:avarnett@sentara.com
END:VEVENT
BEGIN:VEVENT
DTSTART;TZID=UTC:20220414T150000
DTEND;TZID=UTC:20220414T180000
DTSTAMP:20260421T062745
CREATED:20220404T223452Z
LAST-MODIFIED:20220404T223452Z
UID:7326-1649948400-1649959200@www.sentaracareers.com
SUMMARY:Sentara Leigh Hospital – Clinical Hiring Event (In-Person)
DESCRIPTION:We will be hosting a clinical in-person hiring event for our Magnet-designated Sentara Leigh Hospital (Norfolk\, VA). Recruiters and hiring managers will be ready to chat 1:1 with you to speak about their job openings\, your experience\, and answer any questions you may have. See below for what positions we’ll be hiring for. Sign On Bonus and Relocation Assistance for qualified candidates/positions! \nWhen:\nThursday\, April 14\, 3pm-6pm \nWhere:\nSentara Leigh Hospital\n830 Kempsville Road\nNorfolk\, Virginia 23502\nElizabeth River Conference Room\, First Floor\nRegister here: https://indeedhi.re/3u3lUrn \nWe’re hiring for:\nCT Scan Techs\nMammography Techs\nNuclear Med Techs\nNursing (RNs\, LPNs\, NCPs)\nRadiology Techs\nRespiratory Therapists\nSurgical Assistants\nSurgical Techs \nAbout Sentara Leigh Hospital:\n“We are Fami-Leigh” is known affectionately as the employee motto of Sentara Leigh Hospital (Norfolk\, VA). This 250-bed facility sees over 18\,000 admissions and up to 84\,000 patients in the Emergency Department every year. They are Magnet-designated for nursing excellence and offer an array of nursing specialties from Labor and Delivery to Palliative Care\, Med/Surg\, and more. In 2019\, they were one of only two hospitals in the world to become DNV MIR certified for managing infection risks. They are home to the first orthopedic specialty hospital in the Southside Hampton Roads market and offer services for spines\, hips\, knees\, feet\, ankles\, and hands. Sentara Leigh Hospital is known for its innovation\, team-focused culture\, and promoting its employees from within.
URL:https://www.sentaracareers.com/event/sentara-virginia-beach-general-hospital-clinical-hiring-event-in-person-2/
LOCATION:Sentara Leigh Hospital\, 830 Kempsville Rd\, Norfolk\, VA\, 23502\, United States
CATEGORIES:Event Link,Uncategorized,upcoming
ORGANIZER;CN="Andrea Arnett":MAILTO:avarnett@sentara.com
END:VEVENT
BEGIN:VEVENT
DTSTART;TZID=UTC:20220421T130000
DTEND;TZID=UTC:20220421T160000
DTSTAMP:20260421T062745
CREATED:20220412T013137Z
LAST-MODIFIED:20220412T013137Z
UID:7335-1650546000-1650556800@www.sentaracareers.com
SUMMARY:Sentara Norfolk General Hospital - Clinical Hiring Event (In-Person)
DESCRIPTION:We will be hosting an in-person hiring event for our Magnet-designated Sentara Norfolk General Hospital (Norfolk\, VA)! Recruiters and hiring managers will be ready to chat 1:1 with you about our job openings and answer any questions you may have. See below for the positions we’ll be hiring for. Sign-on Bonus and Relocation Assistance available for Qualifying Positions! \nWhen:\nThursday\, April 21\, 1pm-4pm \nWhere:\nSentara Norfolk General Hospital\nHeart Hospital Lobby\n600 Gresham Drive\nNorfolk\, Virginia 23507\nRegister here: https://indeedhi.re/37bDe4L \nHiring for:\nLicensed Practical Nurse\nRegistered Nurse (New Graduate and Experienced)\nSurgical Assistant\nSurgical Tech \nAbout Sentara Norfolk General Hospital:\nSentara Norfolk General Hospital is a 525-bed Magnet recognized facility\, an academic teaching hospital and is home to the region’s only Level 1 Trauma Center. It is also home to The Sentara Heart Hospital which is a quaternary care facility and is ranked #2 for Cardiology and Heart Surgery in the State of Virginia and ranks #24 in the nation for best heart programs. These facilities are located in Norfolk\, Virginia just about 25 minutes from the coastal area of Virginia Beach.
URL:https://www.sentaracareers.com/event/sentara-norfolk-general-hospital-registered-nurse-virtual-hiring-event-2-3-3-2-2/
LOCATION:Sentara Norfolk General Hospital\, 600 Gresham Drive\, Norfolk\, VA\, 23507\, United States
CATEGORIES:Event Link,Uncategorized,upcoming
ORGANIZER;CN="Andrea Arnett":MAILTO:avarnett@sentara.com
END:VEVENT
END:VCALENDAR