BEGIN:VCALENDAR
VERSION:2.0
PRODID:-//Sentara - ECPv6.15.12.2//NONSGML v1.0//EN
CALSCALE:GREGORIAN
METHOD:PUBLISH
X-WR-CALNAME:Sentara
X-ORIGINAL-URL:https://www.sentaracareers.com
X-WR-CALDESC:Events for Sentara
REFRESH-INTERVAL;VALUE=DURATION:PT1H
X-Robots-Tag:noindex
X-PUBLISHED-TTL:PT1H
BEGIN:VTIMEZONE
TZID:UTC
BEGIN:STANDARD
TZOFFSETFROM:+0000
TZOFFSETTO:+0000
TZNAME:UTC
DTSTART:20210101T000000
END:STANDARD
END:VTIMEZONE
BEGIN:VEVENT
DTSTART;TZID=UTC:20220406T130000
DTEND;TZID=UTC:20220406T160000
DTSTAMP:20260422T175644
CREATED:20220328T231447Z
LAST-MODIFIED:20220328T231447Z
UID:7305-1649250000-1649260800@www.sentaracareers.com
SUMMARY:Sentara Virginia Beach General Hospital – Clinical Hiring Event (In-Person)
DESCRIPTION:We will be hosting a clinical in-person hiring event for our Magnet-designated Sentara Virginia Beach General Hospital (Virginia Beach\, VA). Recruiters and hiring managers will be ready to chat 1:1 with you to speak about their job openings\, your experience\, and answer any questions you may have. See below for what positions we’ll be hiring for. Sign On Bonus and Relocation Assistance for qualified candidates/positions! \nWhen:\nWednesday\, April 6\, 1pm-4pm \nWhere:\nSentara Virginia Beach General Hospital\n1060 First Colonial Road\nVirginia Beach\, Virginia 23454\nHospital Lobby\nRegister here: https://indeedhi.re/3qutQ2Q \nWe’re hiring for:\nLicensed Practical Nurse\nNursing Care Partner\nRegistered Nurse (New Graduate and Experienced)\nSurgical Assistant\nSurgical Tech \nAbout Sentara Virginia Beach General Hospital:\nSentara Virginia Beach General Hospital is a 282-bed acute care facility located in Virginia Beach\, VA. We are Magnet-designated for nursing excellence and are home to the region’s only Level III Trauma Center. Our other clinical services include; Mental Health Unit\, Coastal Cancer Center; Diabetes Center; Orthopedics; Accredited Sleep Disorders Center; and an Inpatient Rehab unit. We are also home to one of three locations within the Sentara Heart network of care that provides a quality heart surgery program. We do stents\, pacemakers\, open-heart surgery\, valve replacements. We have a dedicated cardiac surgery operating room\, a dedicated cardiac surgery intensive care unit\, 12 pre- and post-op procedure rooms\, and a 12 bed dedicated cardiac unit. We also provide access to specialized heart clinics\, advanced cardiac imaging and the latest clinical research.
URL:https://www.sentaracareers.com/event/sentara-virginia-beach-general-hospital-clinical-hiring-event-in-person/
LOCATION:Sentara Virginia Beach General Hospital\, Hospital Lobby\, 1060 First Colonial Road\, Virginia Beach\, VA\, 23454\, United States
CATEGORIES:Event Link,Uncategorized,upcoming
ORGANIZER;CN="Andrea Arnett":MAILTO:avarnett@sentara.com
END:VEVENT
END:VCALENDAR