BEGIN:VCALENDAR
VERSION:2.0
PRODID:-//Sentara - ECPv6.15.12.2//NONSGML v1.0//EN
CALSCALE:GREGORIAN
METHOD:PUBLISH
X-ORIGINAL-URL:https://www.sentaracareers.com
X-WR-CALDESC:Events for Sentara
REFRESH-INTERVAL;VALUE=DURATION:PT1H
X-Robots-Tag:noindex
X-PUBLISHED-TTL:PT1H
BEGIN:VTIMEZONE
TZID:UTC
BEGIN:STANDARD
TZOFFSETFROM:+0000
TZOFFSETTO:+0000
TZNAME:UTC
DTSTART:20200101T000000
END:STANDARD
END:VTIMEZONE
BEGIN:VEVENT
DTSTART;TZID=UTC:20211214T090000
DTEND;TZID=UTC:20211214T120000
DTSTAMP:20260419T133523
CREATED:20211125T022823Z
LAST-MODIFIED:20211125T022823Z
UID:6839-1639472400-1639483200@www.sentaracareers.com
SUMMARY:Sentara Medical Group In-Person Hiring Event (RNs\, LPNs\, MAs\, PCRs\, and Social Workers)
DESCRIPTION:Sentara Medical Group will be hosting an in-person hiring event for several clinical positions and various medical practices. Recruiters and Hiring Managers will be ready to chat with you about current openings. We welcome new grads for many of our positions. Please see below for which positions and locations we will be hiring for. \nWhen:\nTuesday\, December 14\, 9am-12pm \nWhere:\nSentara Medical Group\n835 Glenrock Rd\nNorfolk\, VA 23502\nBig Think Room \nWe will be hiring for the following positions: \n\nLicensed Clinical Social Worker\nLicensed Practical Nurse\nMedical Assistant\nPatient Care Representative\nPatient Care Specialist\nPractice Manager\nRegistered Nurse\n\nWe will be hiring for medical practices in the following locations: \n\nChesapeake\, VA\nNorfolk\, VA\nSuffolk\, VA\nVirginia Beach\, VA\n\nAbout Sentara Medical Group:\nSentara Medical Group has physician offices located throughout Virginia and Northeastern\, North Carolina. Within our practices\, we have compassionate care teams made up of Registered Nurses\, Licensed Practical Nurses\, Medical Assistants\, Administrative Assistants\, Nurse Practitioners\, and Physicians. Sentara Medical Group is committed to creating a positive patient experience\, has access to cutting-edge technology and is enhanced by online communication tools allowing for increased collaboration and the best possible patient care.
URL:https://www.sentaracareers.com/event/sentara-medical-group-virtual-hiring-event-rns-lpns-mas-athletic-trainers-sonographers-2-3/
LOCATION:Sentara Medical Group\, 835 Glenrock Rd\, Norfolk\, VA\, 23502\, United States
CATEGORIES:Event Link,Uncategorized,upcoming
ORGANIZER;CN="Laura Puckett":MAILTO:LMHILL@sentara.com
END:VEVENT
END:VCALENDAR